BEGIN:VCALENDAR
VERSION:2.0
PRODID:-//Broadstairs Folk Week - ECPv6.15.20//NONSGML v1.0//EN
CALSCALE:GREGORIAN
METHOD:PUBLISH
X-WR-CALNAME:Broadstairs Folk Week
X-ORIGINAL-URL:https://broadstairsfolkweek.org.uk
X-WR-CALDESC:Events for Broadstairs Folk Week
REFRESH-INTERVAL;VALUE=DURATION:PT1H
X-Robots-Tag:noindex
X-PUBLISHED-TTL:PT1H
BEGIN:VTIMEZONE
TZID:Europe/London
BEGIN:DAYLIGHT
TZOFFSETFROM:+0000
TZOFFSETTO:+0100
TZNAME:BST
DTSTART:20250330T010000
END:DAYLIGHT
BEGIN:STANDARD
TZOFFSETFROM:+0100
TZOFFSETTO:+0000
TZNAME:GMT
DTSTART:20251026T010000
END:STANDARD
BEGIN:DAYLIGHT
TZOFFSETFROM:+0000
TZOFFSETTO:+0100
TZNAME:BST
DTSTART:20260329T010000
END:DAYLIGHT
BEGIN:STANDARD
TZOFFSETFROM:+0100
TZOFFSETTO:+0000
TZNAME:GMT
DTSTART:20261025T010000
END:STANDARD
BEGIN:DAYLIGHT
TZOFFSETFROM:+0000
TZOFFSETTO:+0100
TZNAME:BST
DTSTART:20270328T010000
END:DAYLIGHT
BEGIN:STANDARD
TZOFFSETFROM:+0100
TZOFFSETTO:+0000
TZNAME:GMT
DTSTART:20271031T010000
END:STANDARD
END:VTIMEZONE
BEGIN:VEVENT
DTSTART;TZID=Europe/London:20260808T104500
DTEND;TZID=Europe/London:20260808T123000
DTSTAMP:20260420T112123
CREATED:20250720T143543Z
LAST-MODIFIED:20260106T161634Z
UID:10004676-1786185900-1786192200@broadstairsfolkweek.org.uk
SUMMARY:Hobby Horse Club at The Bandstand
DESCRIPTION:The Bandstand 				\n				\n				\n				\n									The seafront bandstand is the home of daily entertainment from 10.45am-8pm throughout the Festival Week. Music & song\, morris dance displays and of course – the morning Hobby Horse Club\, where Zoe and Peter from Inspiration Creative get all generations singing and dancing together – and wearing some very strange outfits.  They are ably supported by our wonderful band-in-residence Giddy Yup and mayhem is provided by the Hooden Horses – the living embodiment of the festival logo and Clarence the Dragon makes a much anticipated appearance too.  Do you know the song? ” I know a friendly dragon and Clarence is his name. He lives by the sea in Broadstairs – and now he’s back again!” Afternoons see the Bandstand filled with music and dance as our visiting Morris Dance sides take turns on the boards to entertain you\, displays of several different traditions can be seen: Cotswold\, Northwest\, Molly\, Border\, Rapper Sword. In the evenings music fills the air with our programme of bands and entertainment. The bandstand is located next to the Craft and Music fair and overlooking the sea. There is a seated area\, plus a grassed area and toilets\, including disabled toilet. Generations of children have fallen in love with Folk Week at this venue – and now they bring their children and grand-children. All the entertainment at the Bandstand is free but please give generously to our collectors and lottery ticket sellers – everything goes back into bringing Folk Week back next year.   								\n				\n				\n				\n									\n					\n						\n									Click here for events at The Bandstand\n					\n					\n				\n								\n				\n				\n				\n									                                   
URL:https://broadstairsfolkweek.org.uk/event/hobby-horse-club-at-the-bandstand-3-8/2026-08-08/
LOCATION:Bandstand\, Bandstand\, Victoria Parade\, Broadstairs\, Kent\, CT10 1QS\, United Kingdom
CATEGORIES:Family Festival,Free Events,Performance
ATTACH;FMTTYPE=image/jpeg:https://broadstairsfolkweek.org.uk/wp-content/uploads/2023/04/DSC_0317-scaled.jpeg
GEO:51.356409;1.442487
X-APPLE-STRUCTURED-LOCATION;VALUE=URI;X-ADDRESS=Bandstand Bandstand Victoria Parade Broadstairs Kent CT10 1QS United Kingdom;X-APPLE-RADIUS=500;X-TITLE=Bandstand\, Victoria Parade:geo:1.442487,51.356409
END:VEVENT
BEGIN:VEVENT
DTSTART;TZID=Europe/London:20260809T104500
DTEND;TZID=Europe/London:20260809T123000
DTSTAMP:20260420T112123
CREATED:20250720T143543Z
LAST-MODIFIED:20260106T161634Z
UID:10004677-1786272300-1786278600@broadstairsfolkweek.org.uk
SUMMARY:Hobby Horse Club at The Bandstand
DESCRIPTION:The Bandstand 				\n				\n				\n				\n									The seafront bandstand is the home of daily entertainment from 10.45am-8pm throughout the Festival Week. Music & song\, morris dance displays and of course – the morning Hobby Horse Club\, where Zoe and Peter from Inspiration Creative get all generations singing and dancing together – and wearing some very strange outfits.  They are ably supported by our wonderful band-in-residence Giddy Yup and mayhem is provided by the Hooden Horses – the living embodiment of the festival logo and Clarence the Dragon makes a much anticipated appearance too.  Do you know the song? ” I know a friendly dragon and Clarence is his name. He lives by the sea in Broadstairs – and now he’s back again!” Afternoons see the Bandstand filled with music and dance as our visiting Morris Dance sides take turns on the boards to entertain you\, displays of several different traditions can be seen: Cotswold\, Northwest\, Molly\, Border\, Rapper Sword. In the evenings music fills the air with our programme of bands and entertainment. The bandstand is located next to the Craft and Music fair and overlooking the sea. There is a seated area\, plus a grassed area and toilets\, including disabled toilet. Generations of children have fallen in love with Folk Week at this venue – and now they bring their children and grand-children. All the entertainment at the Bandstand is free but please give generously to our collectors and lottery ticket sellers – everything goes back into bringing Folk Week back next year.   								\n				\n				\n				\n									\n					\n						\n									Click here for events at The Bandstand\n					\n					\n				\n								\n				\n				\n				\n									                                   
URL:https://broadstairsfolkweek.org.uk/event/hobby-horse-club-at-the-bandstand-3-8/2026-08-09/
LOCATION:Bandstand\, Bandstand\, Victoria Parade\, Broadstairs\, Kent\, CT10 1QS\, United Kingdom
CATEGORIES:Family Festival,Free Events,Performance
ATTACH;FMTTYPE=image/jpeg:https://broadstairsfolkweek.org.uk/wp-content/uploads/2023/04/DSC_0317-scaled.jpeg
GEO:51.356409;1.442487
X-APPLE-STRUCTURED-LOCATION;VALUE=URI;X-ADDRESS=Bandstand Bandstand Victoria Parade Broadstairs Kent CT10 1QS United Kingdom;X-APPLE-RADIUS=500;X-TITLE=Bandstand\, Victoria Parade:geo:1.442487,51.356409
END:VEVENT
BEGIN:VEVENT
DTSTART;TZID=Europe/London:20260810T104500
DTEND;TZID=Europe/London:20260810T123000
DTSTAMP:20260420T112123
CREATED:20250720T143543Z
LAST-MODIFIED:20260106T161634Z
UID:10004678-1786358700-1786365000@broadstairsfolkweek.org.uk
SUMMARY:Hobby Horse Club at The Bandstand
DESCRIPTION:The Bandstand 				\n				\n				\n				\n									The seafront bandstand is the home of daily entertainment from 10.45am-8pm throughout the Festival Week. Music & song\, morris dance displays and of course – the morning Hobby Horse Club\, where Zoe and Peter from Inspiration Creative get all generations singing and dancing together – and wearing some very strange outfits.  They are ably supported by our wonderful band-in-residence Giddy Yup and mayhem is provided by the Hooden Horses – the living embodiment of the festival logo and Clarence the Dragon makes a much anticipated appearance too.  Do you know the song? ” I know a friendly dragon and Clarence is his name. He lives by the sea in Broadstairs – and now he’s back again!” Afternoons see the Bandstand filled with music and dance as our visiting Morris Dance sides take turns on the boards to entertain you\, displays of several different traditions can be seen: Cotswold\, Northwest\, Molly\, Border\, Rapper Sword. In the evenings music fills the air with our programme of bands and entertainment. The bandstand is located next to the Craft and Music fair and overlooking the sea. There is a seated area\, plus a grassed area and toilets\, including disabled toilet. Generations of children have fallen in love with Folk Week at this venue – and now they bring their children and grand-children. All the entertainment at the Bandstand is free but please give generously to our collectors and lottery ticket sellers – everything goes back into bringing Folk Week back next year.   								\n				\n				\n				\n									\n					\n						\n									Click here for events at The Bandstand\n					\n					\n				\n								\n				\n				\n				\n									                                   
URL:https://broadstairsfolkweek.org.uk/event/hobby-horse-club-at-the-bandstand-3-8/2026-08-10/
LOCATION:Bandstand\, Bandstand\, Victoria Parade\, Broadstairs\, Kent\, CT10 1QS\, United Kingdom
CATEGORIES:Family Festival,Free Events,Performance
ATTACH;FMTTYPE=image/jpeg:https://broadstairsfolkweek.org.uk/wp-content/uploads/2023/04/DSC_0317-scaled.jpeg
GEO:51.356409;1.442487
X-APPLE-STRUCTURED-LOCATION;VALUE=URI;X-ADDRESS=Bandstand Bandstand Victoria Parade Broadstairs Kent CT10 1QS United Kingdom;X-APPLE-RADIUS=500;X-TITLE=Bandstand\, Victoria Parade:geo:1.442487,51.356409
END:VEVENT
BEGIN:VEVENT
DTSTART;TZID=Europe/London:20260811T104500
DTEND;TZID=Europe/London:20260811T123000
DTSTAMP:20260420T112123
CREATED:20250720T143543Z
LAST-MODIFIED:20260106T161634Z
UID:10004679-1786445100-1786451400@broadstairsfolkweek.org.uk
SUMMARY:Hobby Horse Club at The Bandstand
DESCRIPTION:The Bandstand 				\n				\n				\n				\n									The seafront bandstand is the home of daily entertainment from 10.45am-8pm throughout the Festival Week. Music & song\, morris dance displays and of course – the morning Hobby Horse Club\, where Zoe and Peter from Inspiration Creative get all generations singing and dancing together – and wearing some very strange outfits.  They are ably supported by our wonderful band-in-residence Giddy Yup and mayhem is provided by the Hooden Horses – the living embodiment of the festival logo and Clarence the Dragon makes a much anticipated appearance too.  Do you know the song? ” I know a friendly dragon and Clarence is his name. He lives by the sea in Broadstairs – and now he’s back again!” Afternoons see the Bandstand filled with music and dance as our visiting Morris Dance sides take turns on the boards to entertain you\, displays of several different traditions can be seen: Cotswold\, Northwest\, Molly\, Border\, Rapper Sword. In the evenings music fills the air with our programme of bands and entertainment. The bandstand is located next to the Craft and Music fair and overlooking the sea. There is a seated area\, plus a grassed area and toilets\, including disabled toilet. Generations of children have fallen in love with Folk Week at this venue – and now they bring their children and grand-children. All the entertainment at the Bandstand is free but please give generously to our collectors and lottery ticket sellers – everything goes back into bringing Folk Week back next year.   								\n				\n				\n				\n									\n					\n						\n									Click here for events at The Bandstand\n					\n					\n				\n								\n				\n				\n				\n									                                   
URL:https://broadstairsfolkweek.org.uk/event/hobby-horse-club-at-the-bandstand-3-8/2026-08-11/
LOCATION:Bandstand\, Bandstand\, Victoria Parade\, Broadstairs\, Kent\, CT10 1QS\, United Kingdom
CATEGORIES:Family Festival,Free Events,Performance
ATTACH;FMTTYPE=image/jpeg:https://broadstairsfolkweek.org.uk/wp-content/uploads/2023/04/DSC_0317-scaled.jpeg
GEO:51.356409;1.442487
X-APPLE-STRUCTURED-LOCATION;VALUE=URI;X-ADDRESS=Bandstand Bandstand Victoria Parade Broadstairs Kent CT10 1QS United Kingdom;X-APPLE-RADIUS=500;X-TITLE=Bandstand\, Victoria Parade:geo:1.442487,51.356409
END:VEVENT
BEGIN:VEVENT
DTSTART;TZID=Europe/London:20260812T104500
DTEND;TZID=Europe/London:20260812T123000
DTSTAMP:20260420T112123
CREATED:20250720T143543Z
LAST-MODIFIED:20260106T161634Z
UID:10004680-1786531500-1786537800@broadstairsfolkweek.org.uk
SUMMARY:Hobby Horse Club at The Bandstand
DESCRIPTION:The Bandstand 				\n				\n				\n				\n									The seafront bandstand is the home of daily entertainment from 10.45am-8pm throughout the Festival Week. Music & song\, morris dance displays and of course – the morning Hobby Horse Club\, where Zoe and Peter from Inspiration Creative get all generations singing and dancing together – and wearing some very strange outfits.  They are ably supported by our wonderful band-in-residence Giddy Yup and mayhem is provided by the Hooden Horses – the living embodiment of the festival logo and Clarence the Dragon makes a much anticipated appearance too.  Do you know the song? ” I know a friendly dragon and Clarence is his name. He lives by the sea in Broadstairs – and now he’s back again!” Afternoons see the Bandstand filled with music and dance as our visiting Morris Dance sides take turns on the boards to entertain you\, displays of several different traditions can be seen: Cotswold\, Northwest\, Molly\, Border\, Rapper Sword. In the evenings music fills the air with our programme of bands and entertainment. The bandstand is located next to the Craft and Music fair and overlooking the sea. There is a seated area\, plus a grassed area and toilets\, including disabled toilet. Generations of children have fallen in love with Folk Week at this venue – and now they bring their children and grand-children. All the entertainment at the Bandstand is free but please give generously to our collectors and lottery ticket sellers – everything goes back into bringing Folk Week back next year.   								\n				\n				\n				\n									\n					\n						\n									Click here for events at The Bandstand\n					\n					\n				\n								\n				\n				\n				\n									                                   
URL:https://broadstairsfolkweek.org.uk/event/hobby-horse-club-at-the-bandstand-3-8/2026-08-12/
LOCATION:Bandstand\, Bandstand\, Victoria Parade\, Broadstairs\, Kent\, CT10 1QS\, United Kingdom
CATEGORIES:Family Festival,Free Events,Performance
ATTACH;FMTTYPE=image/jpeg:https://broadstairsfolkweek.org.uk/wp-content/uploads/2023/04/DSC_0317-scaled.jpeg
GEO:51.356409;1.442487
X-APPLE-STRUCTURED-LOCATION;VALUE=URI;X-ADDRESS=Bandstand Bandstand Victoria Parade Broadstairs Kent CT10 1QS United Kingdom;X-APPLE-RADIUS=500;X-TITLE=Bandstand\, Victoria Parade:geo:1.442487,51.356409
END:VEVENT
BEGIN:VEVENT
DTSTART;TZID=Europe/London:20260813T104500
DTEND;TZID=Europe/London:20260813T123000
DTSTAMP:20260420T112123
CREATED:20250720T143543Z
LAST-MODIFIED:20260106T161634Z
UID:10004681-1786617900-1786624200@broadstairsfolkweek.org.uk
SUMMARY:Hobby Horse Club at The Bandstand
DESCRIPTION:The Bandstand 				\n				\n				\n				\n									The seafront bandstand is the home of daily entertainment from 10.45am-8pm throughout the Festival Week. Music & song\, morris dance displays and of course – the morning Hobby Horse Club\, where Zoe and Peter from Inspiration Creative get all generations singing and dancing together – and wearing some very strange outfits.  They are ably supported by our wonderful band-in-residence Giddy Yup and mayhem is provided by the Hooden Horses – the living embodiment of the festival logo and Clarence the Dragon makes a much anticipated appearance too.  Do you know the song? ” I know a friendly dragon and Clarence is his name. He lives by the sea in Broadstairs – and now he’s back again!” Afternoons see the Bandstand filled with music and dance as our visiting Morris Dance sides take turns on the boards to entertain you\, displays of several different traditions can be seen: Cotswold\, Northwest\, Molly\, Border\, Rapper Sword. In the evenings music fills the air with our programme of bands and entertainment. The bandstand is located next to the Craft and Music fair and overlooking the sea. There is a seated area\, plus a grassed area and toilets\, including disabled toilet. Generations of children have fallen in love with Folk Week at this venue – and now they bring their children and grand-children. All the entertainment at the Bandstand is free but please give generously to our collectors and lottery ticket sellers – everything goes back into bringing Folk Week back next year.   								\n				\n				\n				\n									\n					\n						\n									Click here for events at The Bandstand\n					\n					\n				\n								\n				\n				\n				\n									                                   
URL:https://broadstairsfolkweek.org.uk/event/hobby-horse-club-at-the-bandstand-3-8/2026-08-13/
LOCATION:Bandstand\, Bandstand\, Victoria Parade\, Broadstairs\, Kent\, CT10 1QS\, United Kingdom
CATEGORIES:Family Festival,Free Events,Performance
ATTACH;FMTTYPE=image/jpeg:https://broadstairsfolkweek.org.uk/wp-content/uploads/2023/04/DSC_0317-scaled.jpeg
GEO:51.356409;1.442487
X-APPLE-STRUCTURED-LOCATION;VALUE=URI;X-ADDRESS=Bandstand Bandstand Victoria Parade Broadstairs Kent CT10 1QS United Kingdom;X-APPLE-RADIUS=500;X-TITLE=Bandstand\, Victoria Parade:geo:1.442487,51.356409
END:VEVENT
BEGIN:VEVENT
DTSTART;TZID=Europe/London:20260814T104500
DTEND;TZID=Europe/London:20260814T123000
DTSTAMP:20260420T112123
CREATED:20250720T143543Z
LAST-MODIFIED:20260106T161634Z
UID:10004682-1786704300-1786710600@broadstairsfolkweek.org.uk
SUMMARY:Hobby Horse Club at The Bandstand
DESCRIPTION:The Bandstand 				\n				\n				\n				\n									The seafront bandstand is the home of daily entertainment from 10.45am-8pm throughout the Festival Week. Music & song\, morris dance displays and of course – the morning Hobby Horse Club\, where Zoe and Peter from Inspiration Creative get all generations singing and dancing together – and wearing some very strange outfits.  They are ably supported by our wonderful band-in-residence Giddy Yup and mayhem is provided by the Hooden Horses – the living embodiment of the festival logo and Clarence the Dragon makes a much anticipated appearance too.  Do you know the song? ” I know a friendly dragon and Clarence is his name. He lives by the sea in Broadstairs – and now he’s back again!” Afternoons see the Bandstand filled with music and dance as our visiting Morris Dance sides take turns on the boards to entertain you\, displays of several different traditions can be seen: Cotswold\, Northwest\, Molly\, Border\, Rapper Sword. In the evenings music fills the air with our programme of bands and entertainment. The bandstand is located next to the Craft and Music fair and overlooking the sea. There is a seated area\, plus a grassed area and toilets\, including disabled toilet. Generations of children have fallen in love with Folk Week at this venue – and now they bring their children and grand-children. All the entertainment at the Bandstand is free but please give generously to our collectors and lottery ticket sellers – everything goes back into bringing Folk Week back next year.   								\n				\n				\n				\n									\n					\n						\n									Click here for events at The Bandstand\n					\n					\n				\n								\n				\n				\n				\n									                                   
URL:https://broadstairsfolkweek.org.uk/event/hobby-horse-club-at-the-bandstand-3-8/2026-08-14/
LOCATION:Bandstand\, Bandstand\, Victoria Parade\, Broadstairs\, Kent\, CT10 1QS\, United Kingdom
CATEGORIES:Family Festival,Free Events,Performance
ATTACH;FMTTYPE=image/jpeg:https://broadstairsfolkweek.org.uk/wp-content/uploads/2023/04/DSC_0317-scaled.jpeg
GEO:51.356409;1.442487
X-APPLE-STRUCTURED-LOCATION;VALUE=URI;X-ADDRESS=Bandstand Bandstand Victoria Parade Broadstairs Kent CT10 1QS United Kingdom;X-APPLE-RADIUS=500;X-TITLE=Bandstand\, Victoria Parade:geo:1.442487,51.356409
END:VEVENT
END:VCALENDAR